BEGIN:VCALENDAR
VERSION:2.0
PRODID:-//Franklin Tomorrow - ECPv6.15.20//NONSGML v1.0//EN
CALSCALE:GREGORIAN
METHOD:PUBLISH
X-ORIGINAL-URL:https://franklintomorrow.org
X-WR-CALDESC:Events for Franklin Tomorrow
REFRESH-INTERVAL;VALUE=DURATION:PT1H
X-Robots-Tag:noindex
X-PUBLISHED-TTL:PT1H
BEGIN:VTIMEZONE
TZID:America/Chicago
BEGIN:DAYLIGHT
TZOFFSETFROM:-0600
TZOFFSETTO:-0500
TZNAME:CDT
DTSTART:20240310T080000
END:DAYLIGHT
BEGIN:STANDARD
TZOFFSETFROM:-0500
TZOFFSETTO:-0600
TZNAME:CST
DTSTART:20241103T070000
END:STANDARD
BEGIN:DAYLIGHT
TZOFFSETFROM:-0600
TZOFFSETTO:-0500
TZNAME:CDT
DTSTART:20250309T080000
END:DAYLIGHT
BEGIN:STANDARD
TZOFFSETFROM:-0500
TZOFFSETTO:-0600
TZNAME:CST
DTSTART:20251102T070000
END:STANDARD
BEGIN:DAYLIGHT
TZOFFSETFROM:-0600
TZOFFSETTO:-0500
TZNAME:CDT
DTSTART:20260308T080000
END:DAYLIGHT
BEGIN:STANDARD
TZOFFSETFROM:-0500
TZOFFSETTO:-0600
TZNAME:CST
DTSTART:20261101T070000
END:STANDARD
END:VTIMEZONE
BEGIN:VEVENT
DTSTART;TZID=America/Chicago:20250210T090000
DTEND;TZID=America/Chicago:20250210T103000
DTSTAMP:20260421T062327
CREATED:20250130T171449Z
LAST-MODIFIED:20250204T162210Z
UID:10000031-1739178000-1739183400@franklintomorrow.org
SUMMARY:February 10 FrankTalks: City Hall on Wheels
DESCRIPTION:Join Franklin Tomorrow for our February FrankTalks with Franklin City Administrator Eric Stuckey for a unique session titled\, “City Hall on Wheels” on Monday\, February 10.\nFrankTalks will be held at Williamson County Enrichment Center located at 110 Everbright Avenue in Franklin\, which will begin at 9 a.m. with a coffee social\, followed by the hour-long program at 9:30 a.m.\nFrankTalks is presented monthly with our presenting partner\, Renasant Bank\, and the support of our sustaining partners\, Atmos Energy\, RaganSmith\, a Pape-Dawson Company and Williamson Health. Additional Support provided by Vanderbilt University Medical Center. We appreciate Lyon Leadership Group for providing coffee through the area McDonald’s. \nStop by to engage with the community\, connect with neighbors\, and learn more about what’s happening in Franklin. We look forward to seeing you there!
URL:https://franklintomorrow.org/event/february-10-franktalks-city-hall-on-wheels/
LOCATION:Williamson Co. Enrichment Center\, 110 Everbright Avenue\, Franklin\, TN\, 37064\, United States
CATEGORIES:FrankTalks
END:VEVENT
END:VCALENDAR