BEGIN:VCALENDAR
VERSION:2.0
PRODID:-//Franklin Tomorrow - ECPv6.15.20//NONSGML v1.0//EN
CALSCALE:GREGORIAN
METHOD:PUBLISH
X-ORIGINAL-URL:https://franklintomorrow.org
X-WR-CALDESC:Events for Franklin Tomorrow
REFRESH-INTERVAL;VALUE=DURATION:PT1H
X-Robots-Tag:noindex
X-PUBLISHED-TTL:PT1H
BEGIN:VTIMEZONE
TZID:America/Chicago
BEGIN:DAYLIGHT
TZOFFSETFROM:-0600
TZOFFSETTO:-0500
TZNAME:CDT
DTSTART:20240310T080000
END:DAYLIGHT
BEGIN:STANDARD
TZOFFSETFROM:-0500
TZOFFSETTO:-0600
TZNAME:CST
DTSTART:20241103T070000
END:STANDARD
BEGIN:DAYLIGHT
TZOFFSETFROM:-0600
TZOFFSETTO:-0500
TZNAME:CDT
DTSTART:20250309T080000
END:DAYLIGHT
BEGIN:STANDARD
TZOFFSETFROM:-0500
TZOFFSETTO:-0600
TZNAME:CST
DTSTART:20251102T070000
END:STANDARD
BEGIN:DAYLIGHT
TZOFFSETFROM:-0600
TZOFFSETTO:-0500
TZNAME:CDT
DTSTART:20260308T080000
END:DAYLIGHT
BEGIN:STANDARD
TZOFFSETFROM:-0500
TZOFFSETTO:-0600
TZNAME:CST
DTSTART:20261101T070000
END:STANDARD
END:VTIMEZONE
BEGIN:VEVENT
DTSTART;TZID=America/Chicago:20250317T090000
DTEND;TZID=America/Chicago:20250317T103000
DTSTAMP:20260423T065135
CREATED:20250225T180821Z
LAST-MODIFIED:20250225T180821Z
UID:10000033-1742202000-1742207400@franklintomorrow.org
SUMMARY:March 17th FrankTalks
DESCRIPTION:Join Franklin Tomorrow at The Factory at Franklin in the Heritage Room as we welcome Doug Kreulen\, President and CEO of Metropolitan Nashville Airport Authority\, to speak on Monday\, March 17th at FrankTalks.\nWe’ll meet in the Heritage Room\, which is next to Liberty Hall and best accessed by parking in the rear and entering by the walkway on the north side of the OLD Franklin Juice Co. Building. \nDoug Kreulen has been a pivotal figure at the Metropolitan Nashville Airport Authority (MNAA) since 2012\, serving as President and Chief Executive Officer since December 2017. In his previous role as Chief Operating Officer\, he effectively managed operations\, facilities maintenance\, public safety\, and development for both Nashville International and John C. Tune airports. We will hear an overview of Nashville International Airport (BNA)\, highlighting its remarkable growth and the significant impact it has on the local community. \nFrankTalks is presented monthly by Renasant Bank and our sustaining partners\, Atmos Energy\, RaganSmith\, A Pape-Dawson Company\, and Williamson Health. Thank you to Lyon Leadership Group\, our local McDonald’s franchisee for coffee for the event.\nA monthly event\, we start at 9 a.m. with a 30-minute coffee social\, followed at 9:30 a.m. with an hour-long program. \n \n 
URL:https://franklintomorrow.org/event/march-17th-franktalks/
LOCATION:The Heritage Room at The Factory\, 230 Franklin Rd\, Franklin\, Tennessee\, 37064
CATEGORIES:FrankTalks
END:VEVENT
END:VCALENDAR