BEGIN:VCALENDAR
VERSION:2.0
PRODID:-//Franklin Tomorrow - ECPv6.15.20//NONSGML v1.0//EN
CALSCALE:GREGORIAN
METHOD:PUBLISH
X-WR-CALNAME:Franklin Tomorrow
X-ORIGINAL-URL:https://franklintomorrow.org
X-WR-CALDESC:Events for Franklin Tomorrow
REFRESH-INTERVAL;VALUE=DURATION:PT1H
X-Robots-Tag:noindex
X-PUBLISHED-TTL:PT1H
BEGIN:VTIMEZONE
TZID:America/Chicago
BEGIN:DAYLIGHT
TZOFFSETFROM:-0600
TZOFFSETTO:-0500
TZNAME:CDT
DTSTART:20250309T080000
END:DAYLIGHT
BEGIN:STANDARD
TZOFFSETFROM:-0500
TZOFFSETTO:-0600
TZNAME:CST
DTSTART:20251102T070000
END:STANDARD
BEGIN:DAYLIGHT
TZOFFSETFROM:-0600
TZOFFSETTO:-0500
TZNAME:CDT
DTSTART:20260308T080000
END:DAYLIGHT
BEGIN:STANDARD
TZOFFSETFROM:-0500
TZOFFSETTO:-0600
TZNAME:CST
DTSTART:20261101T070000
END:STANDARD
BEGIN:DAYLIGHT
TZOFFSETFROM:-0600
TZOFFSETTO:-0500
TZNAME:CDT
DTSTART:20270314T080000
END:DAYLIGHT
BEGIN:STANDARD
TZOFFSETFROM:-0500
TZOFFSETTO:-0600
TZNAME:CST
DTSTART:20271107T070000
END:STANDARD
END:VTIMEZONE
BEGIN:VEVENT
DTSTART;TZID=America/Chicago:20260328T140000
DTEND;TZID=America/Chicago:20260328T173000
DTSTAMP:20260419T145653
CREATED:20260223T204526Z
LAST-MODIFIED:20260303T151553Z
UID:10000053-1774706400-1774719000@franklintomorrow.org
SUMMARY:March 28 - TEDx Franklin: "Finding Your Place Within Your Community"
DESCRIPTION:TEDx Franklin will be Saturday\, March 28\, 2026\, from 2 to 5:30 p.m. in the theater located in the Arts & Technology Building at the Columbia State Community College\, Williamson Campus\, located at 1228 Liberty Pike in Franklin. \nThis event will showcase 12 speakers\, both local and national\, who will speak about topics relating to the theme Finding Your Place Within Your Community. \nSpeakers for the event include Chris Whitney\, Craig Weber\, Craige Hoover\, Dave Delaney\, Erin Krueger\, Holly Duckworth\, Jess Patz\, Kalinda Fisher\, Landon Funk\, Leslie Mathis\, Mridu Nagrath-Parikh\, and Pam Lewis. Their bios can be found at https://events.humanitix.com/2026tedxfranklin \nThe theme is related to The Third Place\, a phrase for a social environment where people gather other than in the home or at work. The emphasis will be on discussing how to build community both locally and on a national/international level. \nThe event will be limited to 100 attendees in keeping with TEDx standards and will consist of two sessions separated by an intermission. Tickets for the event can be found through this link. \nGeneral information is available at https://TEDxfranklin.me \nThis will be a great opportunity for community members to hear from a wide range of voices about how we develop and grow community here\, and it will also be an opportunity for speakers to improve their skills and deliver their messages. \nDan Ryan is the organizer and the TEDx Franklin Planning Committee includes Mindy Tate\, Mayor Ken Moore\, Phyllis Molyneux\, Kathie Moore\, Dr. Shane A. Hall\, Deb Varallo\, Marion Campos\, Darin McCloy\, Louis Upkins and Gena Ryan. \nThe presentation sponsor is Wilson Bank & Trust; Gold Sponsors include Franklin Tomorrow and Franklin Rotary at Breakfast\, and Bronze Sponsors include Deborah Varallo\, Dr. Shane Hall\, Kathie Moore\, and Dan Ryan. \nRegister now at: https://events.humanitix.com/tedx-franklin-finding-your-place-within-your-community \nAbout TEDx Franklin \nTEDxFranklin events spark engagement and discussion by sharing live speaker talks and TED videos with the local community. Our full day conferences are fully planned and coordinated independently for the Franklin community. The content and design of each TEDx event is unique and developed locally but all of them have common key features and align to TEDx branding. \n\n\n\nWhat is TEDx?\nIn the spirit of discovering and spreading ideas\, TED has created a program called TEDx. TEDx is a program of local\, self-organized events that bring people together to share a TED-like experience. Our event is called TEDxFranklin\, where x = independently organized TED event. At our TEDxFranklin event\, TED Talks video and live speakers will combine to spark deep discussion and connection in a small group. The TED Conference provides general guidance for the TEDx program\, but individual TEDx events\, including ours\, are self-organized. \n\n\n\nThis independent TEDx event is operated under license from TED.
URL:https://franklintomorrow.org/event/march-28-tedx-franklin-finding-your-place-within-your-community/
LOCATION:Columbia State Community College\, 1228 Liberty Pike\, Franklin\, Tennessee\, 37064
ATTACH;FMTTYPE=image/jpeg:https://franklintomorrow.org/wp-content/uploads/2026/02/TEDx-Franklin-Register-now.jpg
END:VEVENT
BEGIN:VEVENT
DTSTART;TZID=America/Chicago:20260413T090000
DTEND;TZID=America/Chicago:20260413T103000
DTSTAMP:20260419T145653
CREATED:20260223T204903Z
LAST-MODIFIED:20260326T182311Z
UID:10000054-1776070800-1776076200@franklintomorrow.org
SUMMARY:April 13 - FrankTalks
DESCRIPTION:Join Franklin Tomorrow for our monthly FrankTalks: City Hall on Wheels on April 13\, featuring Franklin City Administrator Eric Stuckey\, Walter Denton\, Assistant City Administrator for Community and Economic Development\, and other officials. \nThe event will be held at Columbia State Community College – Williamson Campus (1228 Liberty Pike\, Franklin\, TN). Start your morning with a coffee social at 9:00 a.m.\, followed by the program beginning at 9:30 a.m. \nThe program will include: \n\nWelcome remarks from Eric Stuckey\nInsight into Franklin’s approach to growth from Walter Denton\nUpdates from the City of Franklin\nAnd more!\n\nDon’t miss this opportunity to hear directly from Franklin’s key leaders\, learn more about city initiatives\, and be part of the conversation shaping our community. \nThere is no cost to attend the event thanks to the generous support of our presenting partner\, Renasant Bank\, as well as our sustaining partners: Atmos Energy\, Williamson Health\, and PAPE-DAWSON. \nAdditional support for this event comes from Vanderbilt University Medical Center.
URL:https://franklintomorrow.org/event/april-13-franktalks/
LOCATION:Columbia State Community College\, 1228 Liberty Pike\, Franklin\, Tennessee\, 37064
CATEGORIES:FrankTalks
ATTACH;FMTTYPE=image/png:https://franklintomorrow.org/wp-content/uploads/2026/02/FrankTalks-April-13.png
END:VEVENT
BEGIN:VEVENT
DTSTART;TZID=America/Chicago:20260428T070000
DTEND;TZID=America/Chicago:20260428T090000
DTSTAMP:20260419T145653
CREATED:20260223T205123Z
LAST-MODIFIED:20260223T205123Z
UID:10000055-1777359600-1777366800@franklintomorrow.org
SUMMARY:April 28 - Breakfast with the Mayors
DESCRIPTION:Stay tuned for registration details.
URL:https://franklintomorrow.org/event/april-28-breakfast-with-the-mayors/
LOCATION:Rolling Hills Community Church\, 1810 Columbia Ave\, Franklin\, Tennessee\, 37064
ATTACH;FMTTYPE=image/png:https://franklintomorrow.org/wp-content/uploads/2026/01/1-Jan 27 Breakfast with the Mayors - WEBSITE SLIDER -  (1240 x 600 px) (4).png
END:VEVENT
END:VCALENDAR