BEGIN:VCALENDAR
VERSION:2.0
PRODID:-//Franklin Tomorrow - ECPv6.15.20//NONSGML v1.0//EN
CALSCALE:GREGORIAN
METHOD:PUBLISH
X-WR-CALNAME:Franklin Tomorrow
X-ORIGINAL-URL:https://franklintomorrow.org
X-WR-CALDESC:Events for Franklin Tomorrow
REFRESH-INTERVAL;VALUE=DURATION:PT1H
X-Robots-Tag:noindex
X-PUBLISHED-TTL:PT1H
BEGIN:VTIMEZONE
TZID:America/Chicago
BEGIN:DAYLIGHT
TZOFFSETFROM:-0600
TZOFFSETTO:-0500
TZNAME:CDT
DTSTART:20240310T080000
END:DAYLIGHT
BEGIN:STANDARD
TZOFFSETFROM:-0500
TZOFFSETTO:-0600
TZNAME:CST
DTSTART:20241103T070000
END:STANDARD
BEGIN:DAYLIGHT
TZOFFSETFROM:-0600
TZOFFSETTO:-0500
TZNAME:CDT
DTSTART:20250309T080000
END:DAYLIGHT
BEGIN:STANDARD
TZOFFSETFROM:-0500
TZOFFSETTO:-0600
TZNAME:CST
DTSTART:20251102T070000
END:STANDARD
BEGIN:DAYLIGHT
TZOFFSETFROM:-0600
TZOFFSETTO:-0500
TZNAME:CDT
DTSTART:20260308T080000
END:DAYLIGHT
BEGIN:STANDARD
TZOFFSETFROM:-0500
TZOFFSETTO:-0600
TZNAME:CST
DTSTART:20261101T070000
END:STANDARD
END:VTIMEZONE
BEGIN:VEVENT
DTSTART;TZID=America/Chicago:20250811T090000
DTEND;TZID=America/Chicago:20250811T103000
DTSTAMP:20260420T160322
CREATED:20250523T183006Z
LAST-MODIFIED:20250730T191053Z
UID:10000040-1754902800-1754908200@franklintomorrow.org
SUMMARY:August 11 FrankTalks: 2025 Williamson County Education Outlook
DESCRIPTION:Jason Golden  \nFrankTalks will be held on Tuesday\, Aug. 11\, at Columbia State College – Williamson County campus\, 1228 Liberty Pike\, in the administration building. \nThe hour-long program will begin at 9:30 but join us for a 30-minute coffee social starting at 9 a.m. \nOur theme for the month is 2025 Williamson County Education Outlook and will feature Jason Golden\, who is the superintendent of Williamson County Schools. Golden was appointed full superintendent in June 2019. His previous career experience includes working in the district as its attorney\, chief operating officer\, and deputy superintendent. \nHe will bring members of his leadership team and others to offer an update on education in Williamson County Schools\, but also the start of the 2025 school year and exciting opportunities ahead. In May 2025\, Dr. David Snowden updated attendees on the Franklin Special District and looked ahead to the 2025-26 school year. \nTo RSVP\, follow this link: https://Aug112025FrankTalks.eventbrite.com \nFrankTalks is presented monthly by Renasant Bank and our sustaining partners\, Atmos Energy; RaganSmith\, A Pape-Dawson Company; and Williamson Health. Thank you to Lyon Leadership Group\, our local McDonald’s franchisee for coffee for the event. \nA monthly event\, we start at 9 a.m. with a 30-minute coffee social\, followed at 9:30 a.m. with an hour-long program.
URL:https://franklintomorrow.org/event/august-11-franktalks/
LOCATION:Tennessee
CATEGORIES:FrankTalks
END:VEVENT
END:VCALENDAR